BEGIN:VCALENDAR
VERSION:2.0
PRODID:-//Rechtsanwaltskanzlei Kunz  - ECPv6.15.20//NONSGML v1.0//EN
CALSCALE:GREGORIAN
METHOD:PUBLISH
X-WR-CALNAME:Rechtsanwaltskanzlei Kunz 
X-ORIGINAL-URL:https://kanzlei-kunz.de
X-WR-CALDESC:Veranstaltungen für Rechtsanwaltskanzlei Kunz 
REFRESH-INTERVAL;VALUE=DURATION:PT1H
X-Robots-Tag:noindex
X-PUBLISHED-TTL:PT1H
BEGIN:VTIMEZONE
TZID:Europe/Berlin
BEGIN:DAYLIGHT
TZOFFSETFROM:+0100
TZOFFSETTO:+0200
TZNAME:CEST
DTSTART:20250330T010000
END:DAYLIGHT
BEGIN:STANDARD
TZOFFSETFROM:+0200
TZOFFSETTO:+0100
TZNAME:CET
DTSTART:20251026T010000
END:STANDARD
BEGIN:DAYLIGHT
TZOFFSETFROM:+0100
TZOFFSETTO:+0200
TZNAME:CEST
DTSTART:20260329T010000
END:DAYLIGHT
BEGIN:STANDARD
TZOFFSETFROM:+0200
TZOFFSETTO:+0100
TZNAME:CET
DTSTART:20261025T010000
END:STANDARD
BEGIN:DAYLIGHT
TZOFFSETFROM:+0100
TZOFFSETTO:+0200
TZNAME:CEST
DTSTART:20270328T010000
END:DAYLIGHT
BEGIN:STANDARD
TZOFFSETFROM:+0200
TZOFFSETTO:+0100
TZNAME:CET
DTSTART:20271031T010000
END:STANDARD
END:VTIMEZONE
BEGIN:VEVENT
DTSTART;TZID=Europe/Berlin:20260904T090000
DTEND;TZID=Europe/Berlin:20260904T163000
DTSTAMP:20260425T210009
CREATED:20251010T085423Z
LAST-MODIFIED:20251010T085423Z
UID:1803-1788512400-1788539400@kanzlei-kunz.de
SUMMARY:Modul 12 - Workshop: Juristische Methoden für Gleichstellungsbeauftragte
DESCRIPTION:Das Amt der Gleichstellungsbeauftragten bringt ein breites Feld an Tätigkeiten und viel Verantwortung mit sich. Grundlage ihrer Arbeit bilden hierfür die anzuwendenden Gesetzestexte. Da diese nicht immer leicht zu verstehen sind und verständlicherweise eine gewisse Scheu vor dem direkten Umgang mit dem Gesetz bestehen kann\, hat das Seminar zum Ziel\, Ihnen den Umgang mit dem Gesetz zu erleichtern. Durch Übungen zum strukturierten Erfassen von Paragrafen und einem kleinen Ausflug in die juristische Methodenlehre soll Ihnen die Arbeit mit dem Gesetz in Ihrem Arbeitsalltag erleichtert werden. \nDer Workshop ist hauptsächlich interaktiv gestaltet und soll zudem Raum für regen Austausch bieten. \nReferentin: Janika Kunz\, Rechtsanwältin \nZeitumfang: 7\,5 Stunden \nThemen: \n\n\n\nEinführung in den Umgang mit dem Gesetz\nErste Herangehensweise an den Gesetzestext\nDen richtigen Paragrafen finden\nParagrafentexte strukturieren\nDie Interpretation von Paragrafen\nDie juristische Methodenlehre\nErstellung von eigenen Checklisten auf Grundlage von Gesetzestexten\nÜbungen zum strukturierten Erfassen von Paragrafen-Texten\nÜbungen anhand von Beispielfällen\n\n\n\nMaterialien: \nDiese Materialien bekommen Sie in digitaler Form zur Verfügung gestellt: \n\nPowerpointpräsentation\nWorksheets zu den Übungen zum Ausfüllen\nVerschiedene Übungsaufgaben\ndie jeweiligen Frauengleichstellungsgesetze und das AGG\n\nTechnische Voraussetzungen:  \nDas Online-Seminar wird über das Videokonferenzprogramm BigBlueButton durchgeführt. Hierbei bedienen wir uns einem Anbieter\, der das Videokonferenzprogramm ausschließlich über deutsche Server betreibt und den Anforderungen des DSGVO genügt (weitere Informationen hierzu finden Sie unter https://bbbserver.de). \nFür die Nutzung des Programms brauchen Sie lediglich einen aktuellen Internetbrowser (wir empfehlen Google-Chrome). Wir weisen Sie darauf hin\, dass etwaige Sicherheitseinstellungen auf Ihrem Computer die Nutzung des Videokonferenzprogramms einschränken können. \nPreis: 380\,00 € zzgl. gesetzlicher MwSt. \nAnmeldungBitte aktiviere JavaScript in deinem Browser\, um dieses Formular fertigzustellen.Titel der Veranstaltung *Datum der Veranstaltung *Teilnehmer:in *VornameNachnameE-Mail *TelefonnummerArbeitgeber:in *Rechnungsadresse *Straße\, HausnummerPostleitzahl *Ort *Checkboxen *Ich habe die Seminar- und Teilnahmebedingungen gelesen und stimme zu.DSGVO-Einverständnis *Ich willige ein\, dass diese Website meine übermittelten Informationen speichert\, sodass meine Anfrage bearbeitet und beantwortet werden kann. *Anmelden
URL:https://kanzlei-kunz.de/event/modul-12-workshop-juristische-methoden-fuer-gleichstellungsbeauftragte-2/
LOCATION:Online (BBB)
CATEGORIES:Grundlagenwissen,Online-Seminare,Vertiefung
ORGANIZER;CN="Janika Kunz%2C Rechtsanw%C3%A4ltin":MAILTO:info@kanzlei-kunz.de
END:VEVENT
BEGIN:VEVENT
DTSTART;TZID=Europe/Berlin:20260907T090000
DTEND;TZID=Europe/Berlin:20260909T130000
DTSTAMP:20260425T210009
CREATED:20251010T090258Z
LAST-MODIFIED:20251010T090258Z
UID:1810-1788771600-1788958800@kanzlei-kunz.de
SUMMARY:Sondermodul I - Crashkurs Bundesgleichstellungsgesetz
DESCRIPTION:Wenn das Bundesgleichstellungsgesetz (BGleiG) Ihre rechtliche Grundlage darstellt\, sind Sie hier genau richtig! Für Gleichstellungsbeauftragte ist ein sicherer Umgang mit dem Gesetz unverzichtbar\, um in ihrer täglichen Arbeit rechtssicher und wirkungsvoll agieren zu können. \nIn diesem kompakten Crashkurs erhalten Sie einen fundierten Überblick über die wesentlichen Inhalte\, Instrumente und Anwendungsbereiche des BGleiG. Sie lernen\, welche Rechte und Pflichten Gleichstellungsbeauftragte haben\, wie sie wirksam beteiligt werden müssen und wie sie ihre Aufgaben im Verwaltungsalltag erfolgreich umsetzen können. \nAnhand praxisnaher Beispiele und aktueller Rechtsprechung wird vermittelt\, wie das BGleiG in typischen Situationen anzuwenden ist. \nReferentin: Janika Kunz\, Rechtsanwältin \nZeitumfang: 3 Tage jew. 4 Stunden \nThemen: \n\n\n\n\nEinführung und Zielsetzung des Bundesgleichstellungsgesetzes \n\n\nAufgaben\, Rechte und Stellung der Gleichstellungsbeauftragten \n\n\nBeteiligungsrechte \n\n\nPraxisbeispiele und Erfahrungsaustausch \n\n\n\n\nMaterialien: \nDiese Materialien bekommen Sie in digitaler Form zur Verfügung gestellt: \n\nPowerpointpräsentation\nÜbungsfälle\ndie jeweiligen Frauengleichstellungsgesetze und das AGG\n\nTechnische Voraussetzungen:  \nDas Online-Seminar wird über das Videokonferenzprogramm BigBlueButton durchgeführt. Hierbei bedienen wir uns einem Anbieter\, der das Videokonferenzprogramm ausschließlich über deutsche Server betreibt und den Anforderungen des DSGVO genügt (weitere Informationen hierzu finden Sie unter https://bbbserver.de). \nFür die Nutzung des Programms brauchen Sie lediglich einen aktuellen Internetbrowser (wir empfehlen Google-Chrome). Wir weisen Sie darauf hin\, dass etwaige Sicherheitseinstellungen auf Ihrem Computer die Nutzung des Videokonferenzprogramms einschränken können. \nPreis: 670\,00 € zzgl. gesetzlicher MwSt. \nAnmeldungBitte aktiviere JavaScript in deinem Browser\, um dieses Formular fertigzustellen.Titel der Veranstaltung *Datum der Veranstaltung *Teilnehmer:in *VornameNachnameE-Mail *TelefonnummerArbeitgeber:in *Rechnungsadresse *Straße\, HausnummerPostleitzahl *Ort *Checkboxen *Ich habe die Seminar- und Teilnahmebedingungen gelesen und stimme zu.DSGVO-Einverständnis *Ich willige ein\, dass diese Website meine übermittelten Informationen speichert\, sodass meine Anfrage bearbeitet und beantwortet werden kann. *Anmelden
URL:https://kanzlei-kunz.de/event/sondermodul-i-crashkurs-bundesgleichstellungsgesetz-2/
LOCATION:Online (BBB)
CATEGORIES:Grundlagenwissen,Online-Seminare
ORGANIZER;CN="Janika Kunz%2C Rechtsanw%C3%A4ltin":MAILTO:info@kanzlei-kunz.de
END:VEVENT
BEGIN:VEVENT
DTSTART;TZID=Europe/Berlin:20260914T090000
DTEND;TZID=Europe/Berlin:20260914T120000
DTSTAMP:20260425T210009
CREATED:20251010T090841Z
LAST-MODIFIED:20251010T090841Z
UID:1816-1789376400-1789387200@kanzlei-kunz.de
SUMMARY:Sondermodul II: Interne Öffentlichkeitsarbeit als Gleichstellungsbeauftragte
DESCRIPTION:In diesem Online-Seminar geht es um das Thema hausinterne Öffentlichkeitarbeit. Nur durch eine effektiv gestaltete interne Kommunikation gelingt es\, Ihre Gleichstellungsarbeit in der Dienststelle präsent werden zu lassen. Auch geht es um Ihren eigenen Bekanntheitsgrad und die Bekanntheit über die Funktion und Tätigkeit des Amtes der Gleichstellungsbeauftragten. Ziel ist – neben der Vermittlung von wichtigen Informationen – das Finden von eigenen Kommunikations-Ansätzen und die Entwicklung eines Kurz-Konzepts für die geplante interne Öffentlichkeitsarbeit in der eigenen Dienststelle. \nDas Seminar ist interaktiv gestaltet und richtet sich sowohl an Gleichstellungsbeauftragte als auch an Stellvertreter:nnen\, Mitarbeiter:innen u.ä.. \nReferentin: Janika Kunz\, Rechtsanwältin \nZeitumfang: 3 Stunden \nThemen: \n\n\n\nRechtliche und formale Voraussetzungen\nVerschiedene interne Kommunikationswege\nAnalyse des Ist-Zustandes (z.B. bezüglich des eigenen Bekanntheitsgrades in der Dienststelle)\nZiele der internen Öffentlichkeitsarbeit\nEntwicklung eines Konzepts\nHerausforderungen bei der Umsetzung\nWahl des passenden Kommunikationstools\nAustausch von Erfahrungswerten\n\n\n\nMaterialien: \nDiese Materialien bekommen Sie in digitaler Form zur Verfügung gestellt: \n\nPowerpointpräsentation\ndie jeweiligen Frauengleichstellungsgesetze und das AGG\n\nTechnische Voraussetzungen:  \nDas Online-Seminar wird über das Videokonferenzprogramm BigBlueButton durchgeführt. Hierbei bedienen wir uns einem Anbieter\, der das Videokonferenzprogramm ausschließlich über deutsche Server betreibt und den Anforderungen des DSGVO genügt (weitere Informationen hierzu finden Sie unter https://bbbserver.de). \nFür die Nutzung des Programms brauchen Sie lediglich einen aktuellen Internetbrowser (wir empfehlen Google-Chrome). Wir weisen Sie darauf hin\, dass etwaige Sicherheitseinstellungen auf Ihrem Computer die Nutzung des Videokonferenzprogramms einschränken können. \nPreis: 210\,00 € zzgl. gesetzlicher MwSt. \nAnmeldungBitte aktiviere JavaScript in deinem Browser\, um dieses Formular fertigzustellen.Titel der Veranstaltung *Datum der Veranstaltung *Teilnehmer:in *VornameNachnameE-Mail *TelefonnummerArbeitgeber:in *Rechnungsadresse *Straße\, HausnummerPostleitzahl *Ort *Checkboxen *Ich habe die Seminar- und Teilnahmebedingungen gelesen und stimme zu.DSGVO-Einverständnis *Ich willige ein\, dass diese Website meine übermittelten Informationen speichert\, sodass meine Anfrage bearbeitet und beantwortet werden kann. *Anmelden
URL:https://kanzlei-kunz.de/event/sondermodul-ii-interne-oeffentlichkeitsarbeit-als-gleichstellungsbeauftragte-2/
LOCATION:Online (BBB)
CATEGORIES:Grundlagenwissen,Online-Seminare,Vertiefung
ORGANIZER;CN="Janika Kunz%2C Rechtsanw%C3%A4ltin":MAILTO:info@kanzlei-kunz.de
END:VEVENT
BEGIN:VEVENT
DTSTART;TZID=Europe/Berlin:20260923T090000
DTEND;TZID=Europe/Berlin:20260923T120000
DTSTAMP:20260425T210009
CREATED:20251010T091611Z
LAST-MODIFIED:20251010T091611Z
UID:1822-1790154000-1790164800@kanzlei-kunz.de
SUMMARY:Sondermodul III: Ziele setzen und erreichen - Argumentation in der Gleichstellungsarbeit
DESCRIPTION:Gleichstellungsbeauftragte bewegen sich häufig in anspruchsvollen Kommunikationssituationen: Sie vertreten Positionen\, die nicht immer auf Zustimmung stoßen\, und müssen ihre Anliegen überzeugend und sachlich begründen. Dieses Online-Seminar unterstützt Sie dabei\, Ihre Argumentationsfähigkeit gezielt zu stärken und Ihre Position mit Klarheit und Selbstsicherheit zu vertreten. \nSie lernen\, den Kern eines Sachverhalts präzise herauszuarbeiten\, strukturiert zu argumentieren und auf Einwände souverän zu reagieren – ohne sich einschüchtern zu lassen. Dabei wird auch der Zusammenhang zwischen klaren Zielen und überzeugender Argumentation thematisiert: Wer seine Ziele kennt\, kann seine Argumente gezielt darauf ausrichten. \nReferentin: Janika Kunz\, Rechtsanwältin \nZeitumfang: 3 Stunden \nThemen: \n\n\n\n\nGrundlagen wirkungsvoller Argumentation in der Gleichstellungsarbeit \n\n\nAnalyse von Gesprächssituationen: Wie entsteht Überzeugungskraft? \n\n\nStrategien gegen Verunsicherung und Einschüchterung \n\n\nSachverhalte auf den Punkt bringen \n\n\nÜbungen zur strukturierten Argumentation \n\n\nAustausch \n\n\n\n\nMaterialien: \nDiese Materialien bekommen Sie in digitaler Form zur Verfügung gestellt: \n\nPowerpointpräsentation\nVerschiedene Übungsaufgaben\ndie jeweiligen Frauengleichstellungsgesetze und das AGG\n\nTechnische Voraussetzungen:  \nDas Online-Seminar wird über das Videokonferenzprogramm BigBlueButton durchgeführt. Hierbei bedienen wir uns einem Anbieter\, der das Videokonferenzprogramm ausschließlich über deutsche Server betreibt und den Anforderungen des DSGVO genügt (weitere Informationen hierzu finden Sie unter https://bbbserver.de). \nFür die Nutzung des Programms brauchen Sie lediglich einen aktuellen Internetbrowser (wir empfehlen Google-Chrome). Wir weisen Sie darauf hin\, dass etwaige Sicherheitseinstellungen auf Ihrem Computer die Nutzung des Videokonferenzprogramms einschränken können. \nPreis: 210\,00 € zzgl. gesetzlicher MwSt. \nAnmeldungBitte aktiviere JavaScript in deinem Browser\, um dieses Formular fertigzustellen.Titel der Veranstaltung *Datum der Veranstaltung *Teilnehmer:in *VornameNachnameE-Mail *TelefonnummerArbeitgeber:in *Rechnungsadresse *Straße\, HausnummerPostleitzahl *Ort *Checkboxen *Ich habe die Seminar- und Teilnahmebedingungen gelesen und stimme zu.DSGVO-Einverständnis *Ich willige ein\, dass diese Website meine übermittelten Informationen speichert\, sodass meine Anfrage bearbeitet und beantwortet werden kann. *Anmelden
URL:https://kanzlei-kunz.de/event/sondermodul-iii-ziele-setzen-und-erreichen-argumentation-in-der-gleichstellungsarbeit-2/
LOCATION:Online (BBB)
CATEGORIES:Grundlagenwissen,Online-Seminare,Vertiefung
ORGANIZER;CN="Janika Kunz%2C Rechtsanw%C3%A4ltin":MAILTO:info@kanzlei-kunz.de
END:VEVENT
END:VCALENDAR