BEGIN:VCALENDAR
VERSION:2.0
PRODID:-//Rechtsanwaltskanzlei Kunz  - ECPv6.15.20//NONSGML v1.0//EN
CALSCALE:GREGORIAN
METHOD:PUBLISH
X-WR-CALNAME:Rechtsanwaltskanzlei Kunz 
X-ORIGINAL-URL:https://kanzlei-kunz.de
X-WR-CALDESC:Veranstaltungen für Rechtsanwaltskanzlei Kunz 
REFRESH-INTERVAL;VALUE=DURATION:PT1H
X-Robots-Tag:noindex
X-PUBLISHED-TTL:PT1H
BEGIN:VTIMEZONE
TZID:Europe/Berlin
BEGIN:DAYLIGHT
TZOFFSETFROM:+0100
TZOFFSETTO:+0200
TZNAME:CEST
DTSTART:20250330T010000
END:DAYLIGHT
BEGIN:STANDARD
TZOFFSETFROM:+0200
TZOFFSETTO:+0100
TZNAME:CET
DTSTART:20251026T010000
END:STANDARD
BEGIN:DAYLIGHT
TZOFFSETFROM:+0100
TZOFFSETTO:+0200
TZNAME:CEST
DTSTART:20260329T010000
END:DAYLIGHT
BEGIN:STANDARD
TZOFFSETFROM:+0200
TZOFFSETTO:+0100
TZNAME:CET
DTSTART:20261025T010000
END:STANDARD
BEGIN:DAYLIGHT
TZOFFSETFROM:+0100
TZOFFSETTO:+0200
TZNAME:CEST
DTSTART:20270328T010000
END:DAYLIGHT
BEGIN:STANDARD
TZOFFSETFROM:+0200
TZOFFSETTO:+0100
TZNAME:CET
DTSTART:20271031T010000
END:STANDARD
END:VTIMEZONE
BEGIN:VEVENT
DTSTART;TZID=Europe/Berlin:20260109T090000
DTEND;TZID=Europe/Berlin:20260109T163000
DTSTAMP:20260425T143052
CREATED:20251010T075717Z
LAST-MODIFIED:20251010T075750Z
UID:1720-1767949200-1767976200@kanzlei-kunz.de
SUMMARY:Modul 1 - Einführung in die Gleichstellungsarbeit
DESCRIPTION:Sie sind neu im Amt? Das Seminar gibt Ihnen eine entspannte Einführung in Ihr Amt als Gleichstellungsbeauftragte\, Frauenvertreterin oder Beauftragte für Chancengleichheit. Gemeinsam verschaffen wir uns einen Überblick über die rechtlichen Grundlagen und die spannenden Herausforderungen\, die in Ihrem neuen Amt auf Sie warten. \nDas Seminar ist insbesondere für Neueinsteiger:innen oder Wiedereinsteiger:innen geeignet. \nVorkenntnisse sind nicht notwendig. \nReferentin: Janika Kunz\, Rechtsanwältin \nZeitumfang: 7\,5 Stunden \nThemen: \n\nGesetzliche Grundlagen (Gleichstellungsgesetzes des Bundes und der Länder & Allgemeiner Gleichbehandlungsgesetz)\nRechtsstellung der Gleichstellungsbeauftragte\, Frauenvertreterin oder Beauftragten für Chancengleichheit\nÜberblick über die Aufgaben Ihres Amtes\nNetzwerken\n\nMaterialien: \nDiese Materialien bekommen Sie in digitaler Form zur Verfügung gestellt: \n\nPowerpointpräsentation\ndie jeweiligen Frauengleichstellungsgesetze\, AGG\n\nTechnische Voraussetzungen:  \nDas Online-Seminar wird über das Videokonferenzprogramm BigBlueButton durchgeführt. Hierbei bedienen wir uns einem Anbieter\, der das Videokonferenzprogramm ausschließlich über deutsche Server betreibt und den Anforderungen des DSGVO genügt (weitere Informationen hierzu finden Sie unter https://bbbserver.de). \nFür die Nutzung des Programms brauchen Sie lediglich einen aktuellen Internetbrowser (wir empfehlen Google-Chrome). Wir weisen Sie darauf hin\, dass etwaige Sicherheitseinstellungen auf Ihrem Computer die Nutzung des Videokonferenzprogramms einschränken können. \nPreis: 380\,00 € zzgl. gesetzlicher MwSt. \nAnmeldungBitte aktiviere JavaScript in deinem Browser\, um dieses Formular fertigzustellen.Titel der Veranstaltung *Datum der Veranstaltung *Teilnehmer:in *VornameNachnameE-Mail *TelefonnummerArbeitgeber:in *Rechnungsadresse *Straße\, HausnummerPostleitzahl *Ort *Checkboxen *Ich habe die Seminar- und Teilnahmebedingungen gelesen und stimme zu.DSGVO-Einverständnis *Ich willige ein\, dass diese Website meine übermittelten Informationen speichert\, sodass meine Anfrage bearbeitet und beantwortet werden kann. *Anmelden
URL:https://kanzlei-kunz.de/event/modul-1-einfuehrung-in-die-gleichstellungsarbeit-4/
LOCATION:Online (BBB)
CATEGORIES:Grundlagenwissen,Online-Seminare
ORGANIZER;CN="Janika Kunz%2C Rechtsanw%C3%A4ltin":MAILTO:info@kanzlei-kunz.de
END:VEVENT
BEGIN:VEVENT
DTSTART;TZID=Europe/Berlin:20260115T090000
DTEND;TZID=Europe/Berlin:20260116T130000
DTSTAMP:20260425T143052
CREATED:20251010T080226Z
LAST-MODIFIED:20251010T080226Z
UID:1727-1768467600-1768568400@kanzlei-kunz.de
SUMMARY:Modul 2 - Rechte und Pflichten der Gleichstellungsbeauftragten
DESCRIPTION:Das Seminar vermittelt Ihnen die wichtigsten Grundlagen zum Thema Rechte und Pflichten der Gleichstellungsbeauftragten\, Frauenvertreterin oder Beauftragte für Chancengleichheit. Neben der Vermittlung von Wissen über die rechtlichen Aspekten wird die Thematik anhand von Fallbeispielen praxisnah aufgezeigt und interaktiv erarbeitet. \nDas Seminar vermittelt Grundlagenwissen. Vorkenntnisse sind nicht notwendig. \nReferentin: Janika Kunz\, Rechtsanwältin \nZeitumfang: 2 Tage jeweils 4 Stunden \nThemen: \n\nRechte und Pflichten gem. der Frauengleichgestellungsgesetze  & nach dem Allgemeinen Gleichbehandlungsgesetz (AGG)\nGrundlagen zur Beteiligung der Gleichstellungsbeauftragten\nÜberwachungsfunktion\nFörderung der Gleichstellung\nFallbeispiele\n\nMaterialien: \nDiese Materialien bekommen Sie in digitaler Form zur Verfügung gestellt: \n\nPowerpointpräsentation\nFallbeispiele\ndie jeweiligen Frauengleichstellungsgesetze\, AGG\n\nTechnische Voraussetzungen:  \nDas Online-Seminar wird über das Videokonferenzprogramm BigBlueButton durchgeführt. Hierbei bedienen wir uns einem Anbieter\, der das Videokonferenzprogramm ausschließlich über deutsche Server betreibt und den Anforderungen des DSGVO genügt (weitere Informationen hierzu finden Sie unter https://bbbserver.de). \nFür die Nutzung des Programms brauchen Sie lediglich einen aktuellen Internetbrowser (wir empfehlen Google-Chrome). Wir weisen Sie darauf hin\, dass etwaige Sicherheitseinstellungen auf Ihrem Computer die Nutzung des Videokonferenzprogramms einschränken können. \nPreis: 450\,00 € zzgl. gesetzlicher MwSt. \nAnmeldungBitte aktiviere JavaScript in deinem Browser\, um dieses Formular fertigzustellen.Titel der Veranstaltung *Datum der Veranstaltung *Teilnehmer:in *VornameNachnameE-Mail *TelefonnummerArbeitgeber:in *Rechnungsadresse *Straße\, HausnummerPostleitzahl *Ort *Checkboxen *Ich habe die Seminar- und Teilnahmebedingungen gelesen und stimme zu.DSGVO-Einverständnis *Ich willige ein\, dass diese Website meine übermittelten Informationen speichert\, sodass meine Anfrage bearbeitet und beantwortet werden kann. *Anmelden
URL:https://kanzlei-kunz.de/event/modul-2-rechte-und-pflichten-der-gleichstellungsbeauftragten/
LOCATION:Online (BBB)
CATEGORIES:Grundlagenwissen,Online-Seminare
ORGANIZER;CN="Janika Kunz%2C Rechtsanw%C3%A4ltin":MAILTO:info@kanzlei-kunz.de
END:VEVENT
BEGIN:VEVENT
DTSTART;TZID=Europe/Berlin:20260122T090000
DTEND;TZID=Europe/Berlin:20260123T130000
DTSTAMP:20260425T143052
CREATED:20251010T080657Z
LAST-MODIFIED:20251010T080709Z
UID:1733-1769072400-1769173200@kanzlei-kunz.de
SUMMARY:Modul 3 - Beteiligungs- und Mitwirkungsverfahren im Frauengleichstellungsrecht
DESCRIPTION:In diesem Seminar wird Ihnen das notwendige know-how vermittelt\, welches Sie für die Durchführung eines Beteiligungs- und Mitwirkungsverfahrens nach den jeweiligen Frauengleichstellungsgesetzen benötigen. Wir sprechen über Ihre frühzeitige Beteiligung sowie über Ihr Recht auf Abgabe bspw. eines Votums oder einer Stellungnahme.\nDaneben thematisieren wir ebenfalls den Bereich des Einspruchs bzw. Widerspruchs/ Beanstandung. Praxisnähe verleihen die Fallbeispiele\, anhand derer wir u.a. die Thematiken interaktiv erarbeiten. Auch schauen wir auf mögliche Fallstricke in den Verfahren\, auf die Sie achten sollten. \nDas Seminar vermittelt Grundlagenwissen. Vorkenntnisse sind nicht notwendig. Zielgruppe sind Gleichstellungsbeauftragten\, Frauenvertreterin oder Beauftragte für Chancengleichheit\, aber auch Stellvertreter:innen und andere\, die mit dem Beteiligungs- und Mitwirkungsverfahren im Kontakt sind. \nReferentin: Janika Kunz\, Rechtsanwältin \nZeitumfang: 2 Tage jeweils 4 Stunden \nThemen: \n\nBeteiligungsverfahren gem. der Frauengleichgestellungsgesetze\nMitwirkungsverfahren gem. der Frauengleichgestellungsgesetze\n\nbspw. Abgabe eines Votums /Stellungnahmen\n\n\nEinspruch\, Widerspruch\, Beanstandung\nInitiativrechte\nwichtige Fristen\nFallstricke im Beteiligungs- und Mitwirkungsverfahren\nFallbeispiele\n\nMaterialien: \nDiese Materialien bekommen Sie in digitaler Form zur Verfügung gestellt: \n\nPowerpointpräsentation\nFallbeispiele\ndie jeweiligen Frauengleichstellungsgesetze\, AGG\n\nTechnische Voraussetzungen:  \nDas Online-Seminar wird über das Videokonferenzprogramm BigBlueButton durchgeführt. Hierbei bedienen wir uns einem Anbieter\, der das Videokonferenzprogramm ausschließlich über deutsche Server betreibt und den Anforderungen des DSGVO genügt (weitere Informationen hierzu finden Sie unter https://bbbserver.de). \nFür die Nutzung des Programms brauchen Sie lediglich einen aktuellen Internetbrowser (wir empfehlen Google-Chrome). Wir weisen Sie darauf hin\, dass etwaige Sicherheitseinstellungen auf Ihrem Computer die Nutzung des Videokonferenzprogramms einschränken können. \nPreis: 450\,00 € zzgl. gesetzlicher MwSt. \nAnmeldungBitte aktiviere JavaScript in deinem Browser\, um dieses Formular fertigzustellen.Titel der Veranstaltung *Datum der Veranstaltung *Teilnehmer:in *VornameNachnameE-Mail *TelefonnummerArbeitgeber:in *Rechnungsadresse *Straße\, HausnummerPostleitzahl *Ort *Checkboxen *Ich habe die Seminar- und Teilnahmebedingungen gelesen und stimme zu.DSGVO-Einverständnis *Ich willige ein\, dass diese Website meine übermittelten Informationen speichert\, sodass meine Anfrage bearbeitet und beantwortet werden kann. *Anmelden
URL:https://kanzlei-kunz.de/event/modul-3-beteiligungs-und-mitwirkungsverfahren-im-frauengleichstellungsrecht/
LOCATION:Online (BBB)
CATEGORIES:Grundlagenwissen,Online-Seminare,Vertiefung
ORGANIZER;CN="Janika Kunz%2C Rechtsanw%C3%A4ltin":MAILTO:info@kanzlei-kunz.de
END:VEVENT
BEGIN:VEVENT
DTSTART;TZID=Europe/Berlin:20260130T090000
DTEND;TZID=Europe/Berlin:20260130T163000
DTSTAMP:20260425T143052
CREATED:20251010T081231Z
LAST-MODIFIED:20251010T081231Z
UID:1740-1769763600-1769790600@kanzlei-kunz.de
SUMMARY:Modul 4 - Die Rolle der Gleichstellungsbeauftragten im Auswahlverfahren
DESCRIPTION:Welche Rolle Sie eigentlich im Personalauswahlverfahren spielen\, welche Handlungsmöglichkeiten Sie haben und worauf Sie konkret achten sollten – diese Fragen beantworten wir u.a. in diesem Seminar. Abgerundet wird die Fortbildung durch praxisnahe Übungsfälle. Raum für einen regen Austausch ist auch eingeplant. \nDas Seminar vermittelt vertieftes Wissen. \nReferentin: Janika Kunz\, Rechtsanwältin \nZeitumfang: 7\,5 Stunden \nThemen: \n\nAusschreibung\nAuswahlgespräch\nStellenbesetzung\nBesonderheiten in den jeweiligen Frauengleichstellungsgesetzen und im Allgemeinen Gleichbehandlungsgesetz (AGG)\nIhre Beteiligung und Mitwirkung im Auswahlverfahren\n\nMaterialien: \nDiese Materialien bekommen Sie in digitaler Form zur Verfügung gestellt: \n\nPowerpointpräsentation\nFallbeispiele\ndie jeweiligen Frauengleichstellungsgesetze\, AGG\n\nTechnische Voraussetzungen:  \nDas Online-Seminar wird über das Videokonferenzprogramm BigBlueButton durchgeführt. Hierbei bedienen wir uns einem Anbieter\, der das Videokonferenzprogramm ausschließlich über deutsche Server betreibt und den Anforderungen des DSGVO genügt (weitere Informationen hierzu finden Sie unter https://bbbserver.de). \nFür die Nutzung des Programms brauchen Sie lediglich einen aktuellen Internetbrowser (wir empfehlen Google-Chrome). Wir weisen Sie darauf hin\, dass etwaige Sicherheitseinstellungen auf Ihrem Computer die Nutzung des Videokonferenzprogramms einschränken können. \nPreis: 380\,00 € zzgl. gesetzlicher MwSt. \nAnmeldungBitte aktiviere JavaScript in deinem Browser\, um dieses Formular fertigzustellen.Titel der Veranstaltung *Datum der Veranstaltung *Teilnehmer:in *VornameNachnameE-Mail *TelefonnummerArbeitgeber:in *Rechnungsadresse *Straße\, HausnummerPostleitzahl *Ort *Checkboxen *Ich habe die Seminar- und Teilnahmebedingungen gelesen und stimme zu.DSGVO-Einverständnis *Ich willige ein\, dass diese Website meine übermittelten Informationen speichert\, sodass meine Anfrage bearbeitet und beantwortet werden kann. *Anmelden
URL:https://kanzlei-kunz.de/event/modul-4-die-rolle-der-gleichstellungsbeauftragten-im-auswahlverfahren/
LOCATION:Online (BBB)
CATEGORIES:Online-Seminare,Vertiefung
ORGANIZER;CN="Janika Kunz%2C Rechtsanw%C3%A4ltin":MAILTO:info@kanzlei-kunz.de
END:VEVENT
END:VCALENDAR