BEGIN:VCALENDAR
VERSION:2.0
PRODID:-//Rechtsanwaltskanzlei Kunz  - ECPv6.15.20//NONSGML v1.0//EN
CALSCALE:GREGORIAN
METHOD:PUBLISH
X-WR-CALNAME:Rechtsanwaltskanzlei Kunz 
X-ORIGINAL-URL:https://kanzlei-kunz.de
X-WR-CALDESC:Veranstaltungen für Rechtsanwaltskanzlei Kunz 
REFRESH-INTERVAL;VALUE=DURATION:PT1H
X-Robots-Tag:noindex
X-PUBLISHED-TTL:PT1H
BEGIN:VTIMEZONE
TZID:Europe/Berlin
BEGIN:DAYLIGHT
TZOFFSETFROM:+0100
TZOFFSETTO:+0200
TZNAME:CEST
DTSTART:20250330T010000
END:DAYLIGHT
BEGIN:STANDARD
TZOFFSETFROM:+0200
TZOFFSETTO:+0100
TZNAME:CET
DTSTART:20251026T010000
END:STANDARD
BEGIN:DAYLIGHT
TZOFFSETFROM:+0100
TZOFFSETTO:+0200
TZNAME:CEST
DTSTART:20260329T010000
END:DAYLIGHT
BEGIN:STANDARD
TZOFFSETFROM:+0200
TZOFFSETTO:+0100
TZNAME:CET
DTSTART:20261025T010000
END:STANDARD
BEGIN:DAYLIGHT
TZOFFSETFROM:+0100
TZOFFSETTO:+0200
TZNAME:CEST
DTSTART:20270328T010000
END:DAYLIGHT
BEGIN:STANDARD
TZOFFSETFROM:+0200
TZOFFSETTO:+0100
TZNAME:CET
DTSTART:20271031T010000
END:STANDARD
END:VTIMEZONE
BEGIN:VEVENT
DTSTART;TZID=Europe/Berlin:20260213T090000
DTEND;TZID=Europe/Berlin:20260213T163000
DTSTAMP:20260425T143039
CREATED:20251010T081928Z
LAST-MODIFIED:20251010T081928Z
UID:1753-1770973200-1771000200@kanzlei-kunz.de
SUMMARY:Modul 6 - Vertrauensfrau
DESCRIPTION:Das Seminar richtet sich an die Vertrauensfrauen. Zunächst verschaffen wir uns einen Überblick\, welche grundlegende Rolle sie in der Dienststelle spielt. Weiter wird auf die gesetzliche Grundlage geschaut. Von da aus erarbeiten wir uns die Aufgaben\, Rechte und Pflichten der Vertrauensfrau. Wichtig für die tägliche Praxis ist zudem die Abgrenzung der Tätigkeitsfelder zwischen Vertrauensfrau\, der Gleichstellungsbeauftragten und der Stellvertreterin. Das Online-Seminar wird interaktiv gestaltet. U.a. sind Übungen mit Fallbeispielen geplant. \nDas Seminar vermittelt Grundlagenwissen. Vorkenntnisse sind nicht notwendig. \nReferentin: Janika Kunz\, Rechtsanwältin \nZeitumfang: 7\,5 Stunden \nThemen: \n\nDie Rolle der Vertrauensfrau – ein Überblick\nDie gesetzliche Grundlage\nAufgaben der Vertrauensfrau\nRechte und Pflichten\nGrenzen ihrer Tätigkeit\nAbgrenzung zur Gleichstellungsbeauftragten\nAbgrenzung zur Stellvertreterin\n\nMaterialien: \nDiese Materialien bekommen Sie in digitaler Form zur Verfügung gestellt: \n\nPowerpointpräsentation\ndie jeweiligen Frauengleichstellungsgesetze\nFallbeispiele\n\nTechnische Voraussetzungen:  \nDas Online-Seminar wird über das Videokonferenzprogramm BigBlueButton durchgeführt. Hierbei bedienen wir uns einem Anbieter\, der das Videokonferenzprogramm ausschließlich über deutsche Server betreibt und den Anforderungen des DSGVO genügt (weitere Informationen hierzu finden Sie unter https://bbbserver.de). \nFür die Nutzung des Programms brauchen Sie lediglich einen aktuellen Internetbrowser (wir empfehlen Google-Chrome). Wir weisen Sie darauf hin\, dass etwaige Sicherheitseinstellungen auf Ihrem Computer die Nutzung des Videokonferenzprogramms einschränken können. \nPreis: 380\,00 € zzgl. gesetzlicher MwSt. \nAnmeldungBitte aktiviere JavaScript in deinem Browser\, um dieses Formular fertigzustellen.Titel der Veranstaltung *Datum der Veranstaltung *Teilnehmer:in *VornameNachnameE-Mail *TelefonnummerArbeitgeber:in *Rechnungsadresse *Straße\, HausnummerPostleitzahl *Ort *Checkboxen *Ich habe die Seminar- und Teilnahmebedingungen gelesen und stimme zu.DSGVO-Einverständnis *Ich willige ein\, dass diese Website meine übermittelten Informationen speichert\, sodass meine Anfrage bearbeitet und beantwortet werden kann. *Anmelden
URL:https://kanzlei-kunz.de/event/modul-6-vertrauensfrau/
LOCATION:Online (BBB)
CATEGORIES:Grundlagenwissen,Online-Seminare,Vertiefung
ORGANIZER;CN="Janika Kunz%2C Rechtsanw%C3%A4ltin":MAILTO:info@kanzlei-kunz.de
END:VEVENT
END:VCALENDAR